BEGIN:VCALENDAR
VERSION:2.0
PRODID:-//https://unitychapelhill.org///NONSGML kigkonsult.se iCalcreator 2.10.15//
METHOD:PUBLISH
BEGIN:VEVENT
UID:20260419T134909UTC-0202o9hPsP@https://unitychapelhill.org/
DTSTAMP:20260419T134909Z
DESCRIPTION:Our ACIM Study Group meets on the second and fourth Sundays of 
 each month and welcomes both beginners and experienced ACIM students alike
 . Keeping with the philosophy of the Course\, all members are seen as both
  teachers and students and are invited to share their thoughts and ask que
 stions.The Chapel Hill Course in Miracles group was established in the 197
 0s and was the first Course in Miracles group in the world. Questions aske
 d by members of the study group were the source of the Clarification of Te
 rms section taken down by Helen Schucman\, its scribe.The Course is a nond
 ualistic spiritual text that aims to help the reader establish more love a
 nd peace of mind in their relationships and every day lives. If you practi
 ce similar non-dualism philosophies then you may also enjoy our group.Agai
 n\, all are welcome. Whether you're new to the Course or you've been a stu
 dent for many years\, we hope to see you at our next meeting!\nContact Cam
 eron Skidmore for more information at&nbsp\;cameron.o.skidmore@gmail.com h
 ttps://unitychapelhill.org/what-s-happening/calendar/event/3191-a-course-i
 n-miracles-study-group.html
DTSTART:20221113T220000Z
DTEND:20221113T230000Z
LOCATION:Unity Center of Peace Sanctuary (8800 Seawell School Rd\, Chapel H
 ill\, NC 27516\, USA)
SUMMARY:A Course In Miracles Study Group
URL:https://unitychapelhill.org/what-s-happening/calendar/event/3191-a-cour
 se-in-miracles-study-group.html
END:VEVENT
END:VCALENDAR
