BEGIN:VCALENDAR
VERSION:2.0
PRODID:-//https://unitychapelhill.org///NONSGML kigkonsult.se iCalcreator 2.10.15//
METHOD:PUBLISH
BEGIN:VEVENT
UID:20260419T131456UTC-5021NLXR8t@https://unitychapelhill.org/
DTSTAMP:20260419T131456Z
DESCRIPTION:UCP has been participating in North Carolina's&nbsp\;Adopt-a-Hw
 y program since 2018. We have adopted our home location - Seawell School R
 oad and clean-ups happen four Saturdays each year. This is a great way for
  us to care for our environment and show love for it and our neighbors.&nb
 sp\;\nWe will meet in the UCP parking lot and walk up the driveway to the 
 road together as a group. Please use the online registration form to let u
 s know you plan to help out.\nSIGN UP&nbsp\;for the clean up.\nLEARN MORE&
 nbsp\;about our program https://unitychapelhill.org/what-s-happening/spotl
 ighted-special-events/adopt-a-hwy-clean-up-june/event/4326-adopt-a-hwy-cle
 an-up.html
DTSTART:20240608T133000Z
DTEND:20240608T163000Z
LOCATION:Unity Center of Peace Campus (8800 Seawell School Road\, Chapel Hi
 ll\, NC 27516 USA)
SUMMARY:Adopt-a-Hwy Clean-up
URL:https://unitychapelhill.org/what-s-happening/spotlighted-special-events
 /adopt-a-hwy-clean-up-june/event/4326-adopt-a-hwy-clean-up.html
END:VEVENT
END:VCALENDAR
