BEGIN:VCALENDAR
VERSION:2.0
PRODID:-//https://unitychapelhill.org///NONSGML kigkonsult.se iCalcreator 2.10.15//
METHOD:PUBLISH
BEGIN:VEVENT
UID:20260419T222803UTC-875819cSHU@https://unitychapelhill.org/
DTSTAMP:20260419T222803Z
DESCRIPTION:\n&nbsp\;\nWe are celebrating our 40th Anniversary here at UCP!
  40 years ago\, a group of individuals came together with a vision…a visio
 n for a loving community where folks would support one another in accessin
 g their inner Divine power\, connecting with Spirit in nature\, rememberin
 g our Oneness with all\, and radiating that Peace out to the world.We’ve g
 rown in size\, membership and programs\, but that original vision is still
  very much alive. In fact\, it fuels all that we do here. And that vision 
 has taken us through some pretty rough times over the years when we didn’t
  think we’d make it. But we’re still here\, and stronger than ever!We are 
 making preparations for one heck of a celebration on Sunday\, June 30th. W
 e want to celebrate all the people who have been a part of Unity Center of
  Peace over the years. It will be a true “homecoming”. You’ll see folks yo
 u haven’t seen in a long time – and some of them will be sharing a song\, 
 a poem\, or a memory of UCP in the early days. There will be a fun photobo
 oth to mark the occasion\, and face painting for the kids (childcare will 
 be available from 1-3.)The afternoon will begin with a cookout on the back
  deck with a champagne toast! Look for a wall of old photos in the foyer –
  you just might be in one or two! – and a timeline where you can indicate 
 the year you were part of this beautiful spiritual community. If you feel 
 so moved\, please send your well wishes and a sentence or two about how Un
 ity Center of Peace has impacted your life. Send that to&nbsp\;office@unit
 ychapelhill.org.\nRSVP HERE\nPROGRAM OF EVENTS40th_anniversary_celebration
 _list_of_events.pdf\n&nbsp\;\nAnd\, we hope you can join us Saturday\, Jul
 y 6th from 4pm-7pm as we continue the festivities with an Anniversary Danc
 e Party and family potluck! Bring your own drink. We look forward to seein
 g you there!\n&nbsp\; https://unitychapelhill.org/what-s-happening/spotlig
 hted-special-events/ucp-s-40th-anniversary-celebration/event/4340-ucp-s-40
 th-year-anniversary-celebration.html
DTSTART:20240630T170000Z
DTEND:20240630T230000Z
LOCATION:Unity Center of Peace Campus (8800 Seawell School Road\, Chapel Hi
 ll\, NC 27516 USA)
SUMMARY:UCP's 40th Year Anniversary Celebration
URL:https://unitychapelhill.org/what-s-happening/spotlighted-special-events
 /ucp-s-40th-anniversary-celebration/event/4340-ucp-s-40th-year-anniversary
 -celebration.html
END:VEVENT
END:VCALENDAR
