BEGIN:VCALENDAR
VERSION:2.0
PRODID:-//https://unitychapelhill.org///NONSGML kigkonsult.se iCalcreator 2.10.15//
METHOD:PUBLISH
BEGIN:VEVENT
UID:20260419T123924UTC-6484v2cC4P@https://unitychapelhill.org/
DTSTAMP:20260419T123924Z
DESCRIPTION:&nbsp\;\nPURCHASE TICKETS\n&nbsp\;\n\nAmy Steinberg is a dynami
 c performer and newly licensed New Thought minister from Asheville\, NC\, 
 who rocks the stage with soulful songs\, hilarious stories\, and spiritual
  wisdom. Her vibrant personality and uplifting lyrics create an unforgetta
 ble blend of pop\, rock\, and inspiration. With infectious energy\, Amy tu
 rns every performance into a joyous celebration of life and love\, making 
 her a true beacon of positivity and unity.\nJoin us after the Sunday Celeb
 ration service for a fun concert performance by Amy! Check out 'Rev Aimes'
  WEBSITE to learn more about her.\n$20 per ticket\nPURCHASE TICKETS\n&nbsp
 \;\n&nbsp\;\n&nbsp\;\n&nbsp\; https://unitychapelhill.org/what-s-happening
 /unity-center-of-peace-calendar/event/4440-amy-steinberg-concert.html
DTSTART:20241208T180000Z
DTEND:20241208T190000Z
LOCATION:Unity Center of Peace Sanctuary (8800 Seawell School Rd\, Chapel H
 ill\, NC 27516\, USA)
SUMMARY:Amy Steinberg Concert
URL:https://unitychapelhill.org/what-s-happening/unity-center-of-peace-cale
 ndar/event/4440-amy-steinberg-concert.html
END:VEVENT
END:VCALENDAR
