BEGIN:VCALENDAR
VERSION:2.0
PRODID:-//https://unitychapelhill.org///NONSGML kigkonsult.se iCalcreator 2.10.15//
METHOD:PUBLISH
BEGIN:VEVENT
UID:20260419T153831UTC-9498uuRL7Z@https://unitychapelhill.org/
DTSTAMP:20260419T153831Z
DESCRIPTION:The Dances of Universal Peace bring people together in sacred d
 ance\, song\, and story\, through simple melodies and movements that touch
  the spiritual essence within. Newcomers are happily welcomed. No experien
 ce or special abilities are needed. Trained leaders present complete instr
 uctions\, and wonderful live music is provided. Sponsored by Rose Heart Su
 fi Community.&nbsp\;\nSuggested donation of $10 is requested. No one is tu
 rned away for financial reasons.\nWe meet on the 1st Thursday of every mon
 th from 7-8:30pm.\nFor more information about this Sacred practice to to&n
 bsp\;https://www.dancesofuniversalpeace.org/\n&nbsp\;\n&nbsp\;\n&nbsp\; ht
 tps://unitychapelhill.org/what-s-happening/unity-center-of-peace-calendar/
 event/5879-dances-of-universal-peace.html
DTSTART:20260102T000000Z
DTEND:20260102T013000Z
LOCATION:Unity Center of Peace Sanctuary (8800 Seawell School Rd\, Chapel H
 ill\, NC 27516\, USA)
SUMMARY:Dances of Universal Peace
URL:https://unitychapelhill.org/what-s-happening/unity-center-of-peace-cale
 ndar/event/5879-dances-of-universal-peace.html
END:VEVENT
END:VCALENDAR
