BEGIN:VCALENDAR
VERSION:2.0
PRODID:-//https://unitychapelhill.org///NONSGML kigkonsult.se iCalcreator 2.10.15//
METHOD:PUBLISH
BEGIN:VEVENT
UID:20260421T093103UTC-2426daMIiv@https://unitychapelhill.org/
DTSTAMP:20260421T093103Z
DESCRIPTION:On World&nbsp\;Labyrinth&nbsp\;Day\, Saturday May 2\, people fr
 om all over the world\, and from all walks of life\, find a local&nbsp\;la
 byrinth&nbsp\;and walk with intentional focus on world peace at 1:00 pm lo
 cal time. Called&nbsp\;“Walk as One at One\,”&nbsp\;the idea is to create 
 a rolling wave of peaceful energy passing from one time zone to the next.
 \nWe hope you will join Rev. Victoria Loveland-Coen for this special globa
 l observance of walking meditation in our&nbsp\;outdoor Spiral&nbsp\;Labyr
 inth&nbsp\;here on the grounds at&nbsp\;Unity Center of Peace.&nbsp\;Gentl
 e music will be offered\, and well as a flower to hold and place at the ce
 nter\, if desired.&nbsp\;You&nbsp\;might want to bring a water bottle\, an
 d dress for the weather.&nbsp\;Meet at the&nbsp\;labyrinth&nbsp\;a little 
 before 1pm. $10 minimum suggested love offering supports Unity Center of P
 eace\, which generously provides our gathering space and programs for Outd
 oor Sacred Spaces.\nEvent Location: 8800 Seawell School Road\, Chapel Hill
 \, NC - located behind the building and to the left.&nbsp\;\n&nbsp\; https
 ://unitychapelhill.org/what-s-happening/unity-center-of-peace-calendar/eve
 nt/6005-world-labyrinth-day-walk-as-one-at-one.html
DTSTART:20260502T170000Z
DTEND:20260502T183000Z
LOCATION:Spiral Labyrinth\, UCP Outdoor Sacred Spaces (8800 Seawell School 
 Rd\, Chapel Hill\, NC 27516\, USA)
SUMMARY:World Labyrinth Day - Walk As One At One
URL:https://unitychapelhill.org/what-s-happening/unity-center-of-peace-cale
 ndar/event/6005-world-labyrinth-day-walk-as-one-at-one.html
END:VEVENT
END:VCALENDAR
